Back to Build/check report for BioC 3.15
[A]BCDEFGHIJKLMNOPQRSTUVWXYZ

This page was generated on 2021-12-04 12:32:05 -0500 (Sat, 04 Dec 2021).

All results for package ABAEnrichment

To the developers/maintainers of the ABAEnrichment package:
- Please allow up to 24 hours (and sometimes 48 hours) for your latest push to git@git.bioconductor.org:packages/ABAEnrichment.git to
reflect on this report. See How and When does the builder pull? When will my changes propagate? here for more information.
- Make sure to use the following settings in order to reproduce any error or warning you see on this page.

raw results

Package 7/2068HostnameOS / ArchINSTALLBUILDCHECKBUILD BIN
ABAEnrichment 1.25.1  (landing page)
Steffi Grote
Snapshot Date: 2021-12-03 13:55:11 -0500 (Fri, 03 Dec 2021)
git_url: https://git.bioconductor.org/packages/ABAEnrichment
git_branch: master
git_last_commit: aa43e0a
git_last_commit_date: 2021-11-15 13:30:05 -0500 (Mon, 15 Nov 2021)
nebbiolo1Linux (Ubuntu 20.04.3 LTS) / x86_64  ERROR    ERROR  skipped