Long tests report for BioC 3.9

This page was generated on 2018-12-08 16:35:09 -0500 (Sat, 08 Dec 2018).

git log

Snapshot Date: 2018-12-08 06:35:04 -0500 (Sat, 08 Dec 2018)

HostnameOSArch (*)Platform label (**)R versionInstalled pkgs
malbec2Linux (Ubuntu 18.04.1 LTS)x86_64x86_64-linux-gnuR Under development (unstable) (2018-11-17 r75624) -- "Unsuffered Consequences" -1
Click on any hostname to see more info about the system (e.g. compilers)      (*) as reported by 'uname -p', except on Windows and Mac OS X      (**) as reported by 'gcc -v'

Package status is indicated by one of the following glyphs
 TIMEOUT  CHECK of package took more than 360 minutes Use the check boxes to show only packages with the selected status types.
 ERROR  Bad DESCRIPTION file or CHECK of package produced errors
 WARNINGS  CHECK of package produced warnings
 OK  CHECK of package was OK
 NA  CHECK result is not available because of an anomaly in the Build System
Click on any glyph in the report below to access the detailed results.

SUMMARYOS / ArchCHECK
malbec2 Linux (Ubuntu 18.04.1 LTS) / x86_64 
0220
PackageMaintainerCHECK
1/4beachmat 1.5.0Aaron Lun ERROR 
2/4BiocParallel 1.17.3Bioconductor Package Maintainer WARNINGS 
3/4GenomicFeatures 1.35.4Bioconductor Package Maintainer WARNINGS 
4/4HDF5Array 1.11.6Hervé Pagès ERROR