Back to Multiple platform build/check report for BioC 3.9
ABCDEFGHIJKLMNOPQR[S]TUVWXYZ

Multiple platform build/check report for BioC 3.9

Results for SplicingGraphs

This page was generated on 2019-10-16 11:54:26 -0400 (Wed, 16 Oct 2019).

Package 1572/1741HostnameOS / ArchINSTALLBUILDCHECKBUILD BIN
SplicingGraphs 1.24.0
H. Pag├Ęs
Snapshot Date: 2019-10-15 17:01:26 -0400 (Tue, 15 Oct 2019)
URL: https://git.bioconductor.org/packages/SplicingGraphs
Branch: RELEASE_3_9
Last Commit: d533e82
Last Changed Date: 2019-05-02 11:53:42 -0400 (Thu, 02 May 2019)
malbec2 Linux (Ubuntu 18.04.2 LTS) / x86_64  OK  OK  WARNINGS UNNEEDED, same version exists in internal repository
tokay2 Windows Server 2012 R2 Standard / x64  OK  OK  WARNINGS  OK UNNEEDED, same version exists in internal repository
celaya2 OS X 10.11.6 El Capitan / x86_64  OK  OK  WARNINGS  OK UNNEEDED, same version exists in internal repository