Workflows build report for BioC 3.8

This page was generated on 2018-10-15 12:45:21 -0400 (Mon, 15 Oct 2018).

git log

Snapshot Date: 2018-10-15 07:35:06 -0400 (Mon, 15 Oct 2018)

HostnameOSArch (*)Platform label (**)R versionInstalled pkgs
malbec1Linux (Ubuntu 16.04.1 LTS)x86_64x86_64-linux-gnu3.5.1 Patched (2018-07-12 r74967) -- "Feather Spray" 3352
tokay1Windows Server 2012 R2 Standardx64mingw32 / x86_64-w64-mingw323.5.1 Patched (2018-07-24 r75008) -- "Feather Spray" 3183
Click on any hostname to see more info about the system (e.g. compilers)      (*) as reported by 'uname -p', except on Windows and Mac OS X      (**) as reported by 'gcc -v'

Package status is indicated by one of the following glyphs
 TIMEOUT  INSTALL or BUILD of package took more than 120 minutes Use the check boxes to show only packages with the selected status types.
 ERROR  Bad DESCRIPTION file or INSTALL or BUILD of package failed
 OK  INSTALL or BUILD of package was OK
 skipped  CHECK or BUILD BIN of package was skipped because the BUILD step failed
 NA  BUILD result is not available because of an anomaly in the Build System
Click on any glyph in the report below to access the detailed results.
Package propagation status is indicated by one of the following LEDs
YES YES: Package was propagated because it didn't previously exist or version was bumped
NO NO: Package was not propagated because of a problem (impossible dependencies, or version lower than what is already propagated)
UNNEEDED UNNEEDED: Package was not propagated because it is already in the repository with this version. A version bump is required in order to propagate it

A crossed-out package name indicates the package is deprecated


SUMMARYOS / ArchINSTALLBUILD
malbec1 Linux (Ubuntu 16.04.1 LTS) / x86_64 
0023
0122
tokay1 Windows Server 2012 R2 Standard / x64 
0021
1020
Package 1/23HostnameOS / ArchINSTALLBUILD
annotation 1.3.1
Bioconductor Package Maintainer
Last Commit: 3779acb
Last Changed Date: 2018-08-10 09:06:01 -0400
malbec1 Linux (Ubuntu 16.04.1 LTS) / x86_64  OK  OK UNNEEDED, same version exists in internal repository
tokay1 Windows Server 2012 R2 Standard / x64  OK  OK 
Package 2/23HostnameOS / ArchINSTALLBUILD
arrays 1.5.2
Bioconductor Package Maintainer
Last Commit: b9e4e75
Last Changed Date: 2018-08-10 09:07:00 -0400
malbec1 Linux (Ubuntu 16.04.1 LTS) / x86_64  OK  OK UNNEEDED, same version exists in internal repository
tokay1 Windows Server 2012 R2 Standard / x64  OK  OK 
Package 3/23HostnameOS / ArchINSTALLBUILD
BiocMetaWorkflow 1.1.2
Mike Smith
Last Commit: 29e714a
Last Changed Date: 2018-08-10 09:09:55 -0400
malbec1 Linux (Ubuntu 16.04.1 LTS) / x86_64  OK  OK UNNEEDED, same version exists in internal repository
tokay1 Windows Server 2012 R2 Standard / x64  OK  OK 
Package 4/23HostnameOS / ArchINSTALLBUILD
chipseqDB 1.3.3
Aaron Lun
Last Commit: c000543
Last Changed Date: 2018-10-09 11:58:38 -0400
malbec1 Linux (Ubuntu 16.04.1 LTS) / x86_64  OK  OK UNNEEDED, same version exists in internal repository
tokay1 Windows Server 2012 R2 Standard / x64 ...NOT SUPPORTED...
Package 5/23HostnameOS / ArchINSTALLBUILD
cytofWorkflow 1.3.2
Malgorzata Nowicka
Last Commit: 7a06a6f
Last Changed Date: 2018-08-31 13:06:08 -0400
malbec1 Linux (Ubuntu 16.04.1 LTS) / x86_64  OK  OK UNNEEDED, same version exists in internal repository
tokay1 Windows Server 2012 R2 Standard / x64  OK  OK 
Package 6/23HostnameOS / ArchINSTALLBUILD
EGSEA123 1.3.1
Matthew Ritchie
Last Commit: fb7c59a
Last Changed Date: 2018-08-10 09:17:41 -0400
malbec1 Linux (Ubuntu 16.04.1 LTS) / x86_64  OK  OK UNNEEDED, same version exists in internal repository
tokay1 Windows Server 2012 R2 Standard / x64  OK  OK 
Package 7/23HostnameOS / ArchINSTALLBUILD
eQTL 1.3.1
Vincent Carey
Last Commit: 32b70af
Last Changed Date: 2018-08-10 09:32:30 -0400
malbec1 Linux (Ubuntu 16.04.1 LTS) / x86_64  OK  OK UNNEEDED, same version exists in internal repository
tokay1 Windows Server 2012 R2 Standard / x64  OK  OK 
Package 8/23HostnameOS / ArchINSTALLBUILD
ExpressionNormalizationWorkflow 1.5.1
Karthikeyan Murugesan
Last Commit: 245b7fe
Last Changed Date: 2018-08-10 09:23:31 -0400
malbec1 Linux (Ubuntu 16.04.1 LTS) / x86_64  OK  OK UNNEEDED, same version exists in internal repository
tokay1 Windows Server 2012 R2 Standard / x64  OK  OK 
Package 9/23HostnameOS / ArchINSTALLBUILD
generegulation 1.3.1
Bioconductor Package Maintainer
Last Commit: 32f296f
Last Changed Date: 2018-08-10 09:26:25 -0400
malbec1 Linux (Ubuntu 16.04.1 LTS) / x86_64  OK  OK UNNEEDED, same version exists in internal repository
tokay1 Windows Server 2012 R2 Standard / x64  OK  OK 
Package 10/23HostnameOS / ArchINSTALLBUILD
highthroughputassays 1.3.1
Bioconductor Package Maintainer
Last Commit: 7b38c56
Last Changed Date: 2018-08-10 09:27:55 -0400
malbec1 Linux (Ubuntu 16.04.1 LTS) / x86_64  OK  OK UNNEEDED, same version exists in internal repository
tokay1 Windows Server 2012 R2 Standard / x64 ...NOT SUPPORTED...
Package 11/23HostnameOS / ArchINSTALLBUILD
liftOver 1.3.1
Bioconductor Package Maintainer
Last Commit: 9198562
Last Changed Date: 2018-08-10 09:28:54 -0400
malbec1 Linux (Ubuntu 16.04.1 LTS) / x86_64  OK  OK UNNEEDED, same version exists in internal repository
tokay1 Windows Server 2012 R2 Standard / x64  OK  OK 
Package 12/23HostnameOS / ArchINSTALLBUILD
maEndToEnd 1.99.6
Bernd Klaus
Last Commit: 2e5cae5
Last Changed Date: 2018-09-14 05:50:32 -0400
malbec1 Linux (Ubuntu 16.04.1 LTS) / x86_64  OK  OK UNNEEDED, same version exists in internal repository
tokay1 Windows Server 2012 R2 Standard / x64  OK  OK 
Package 13/23HostnameOS / ArchINSTALLBUILD
methylationArrayAnalysis 1.3.1
Jovana Maksimovic
Last Commit: d2f7495
Last Changed Date: 2018-08-10 09:33:36 -0400
malbec1 Linux (Ubuntu 16.04.1 LTS) / x86_64  OK  OK UNNEEDED, same version exists in internal repository
tokay1 Windows Server 2012 R2 Standard / x64  OK  OK 
Package 14/23HostnameOS / ArchINSTALLBUILD
proteomics 1.3.2
Laurent Gatto
Last Commit: 006758f
Last Changed Date: 2018-08-10 09:36:52 -0400
malbec1 Linux (Ubuntu 16.04.1 LTS) / x86_64  OK  OK UNNEEDED, same version exists in internal repository
tokay1 Windows Server 2012 R2 Standard / x64  OK  OK 
Package 15/23HostnameOS / ArchINSTALLBUILD
recountWorkflow 1.3.3
Leonardo Collado-Torres
Last Commit: 497af6f
Last Changed Date: 2018-09-24 11:15:43 -0400
malbec1 Linux (Ubuntu 16.04.1 LTS) / x86_64  OK  OK UNNEEDED, same version exists in internal repository
tokay1 Windows Server 2012 R2 Standard / x64  OK  OK 
Package 16/23HostnameOS / ArchINSTALLBUILD
RNAseq123 1.3.1
Matthew Ritchie
Last Commit: 2f1285a
Last Changed Date: 2018-08-10 09:39:49 -0400
malbec1 Linux (Ubuntu 16.04.1 LTS) / x86_64  OK  OK UNNEEDED, same version exists in internal repository
tokay1 Windows Server 2012 R2 Standard / x64  OK  OK 
Package 17/23HostnameOS / ArchINSTALLBUILD
rnaseqDTU 0.99.21
Michael Love
Last Commit: 07dca32
Last Changed Date: 2018-10-01 13:55:55 -0400
malbec1 Linux (Ubuntu 16.04.1 LTS) / x86_64  OK  OK UNNEEDED, same version exists in internal repository
tokay1 Windows Server 2012 R2 Standard / x64  OK  OK 
Package 18/23HostnameOS / ArchINSTALLBUILD
rnaseqGene 1.3.2
Michael Love
Last Commit: 9cb2041
Last Changed Date: 2018-08-10 09:42:34 -0400
malbec1 Linux (Ubuntu 16.04.1 LTS) / x86_64  OK  OK UNNEEDED, same version exists in internal repository
tokay1 Windows Server 2012 R2 Standard / x64  OK  OK 
Package 19/23HostnameOS / ArchINSTALLBUILD
RnaSeqGeneEdgeRQL 1.3.5
Yunshun Chen
Last Commit: 163009b
Last Changed Date: 2018-08-10 09:44:29 -0400
malbec1 Linux (Ubuntu 16.04.1 LTS) / x86_64  OK  OK UNNEEDED, same version exists in internal repository
tokay1 Windows Server 2012 R2 Standard / x64  OK  OK 
Package 20/23HostnameOS / ArchINSTALLBUILD
sequencing 1.3.1
Martin Morgan
Last Commit: aa316c9
Last Changed Date: 2018-08-10 09:45:20 -0400
malbec1 Linux (Ubuntu 16.04.1 LTS) / x86_64  OK  OK UNNEEDED, same version exists in internal repository
tokay1 Windows Server 2012 R2 Standard / x64  OK  OK 
Package 21/23HostnameOS / ArchINSTALLBUILD
simpleSingleCell 1.3.24
Aaron Lun
Last Commit: 1326605
Last Changed Date: 2018-10-09 11:27:31 -0400
malbec1 Linux (Ubuntu 16.04.1 LTS) / x86_64  OK  OK UNNEEDED, same version exists in internal repository
tokay1 Windows Server 2012 R2 Standard / x64  OK  TIMEOUT 
Package 22/23HostnameOS / ArchINSTALLBUILD
TCGAWorkflow 1.3.4
Tiago Chedraoui Silva
Last Commit: ff5ef6d
Last Changed Date: 2018-10-13 15:40:32 -0400
malbec1 Linux (Ubuntu 16.04.1 LTS) / x86_64  OK  ERROR 
tokay1 Windows Server 2012 R2 Standard / x64  OK  OK 
Package 23/23HostnameOS / ArchINSTALLBUILD
variants 1.3.1
Bioconductor Package Maintainer
Last Commit: 28ff8ea
Last Changed Date: 2018-08-10 09:50:27 -0400
malbec1 Linux (Ubuntu 16.04.1 LTS) / x86_64  OK  OK UNNEEDED, same version exists in internal repository
tokay1 Windows Server 2012 R2 Standard / x64  OK  OK