Multiple platform build/check report for BioC 3.8 experimental data

This page was generated on 2018-10-14 13:01:23 -0400 (Sun, 14 Oct 2018).

git log

Snapshot Date: 2018-10-14 07:35:24 -0400 (Sun, 14 Oct 2018)

HostnameOSArch (*)Platform label (**)R versionInstalled pkgs
malbec1Linux (Ubuntu 16.04.1 LTS)x86_64x86_64-linux-gnu3.5.1 Patched (2018-07-12 r74967) -- "Feather Spray" 3352
Click on any hostname to see more info about the system (e.g. compilers)      (*) as reported by 'uname -p', except on Windows and Mac OS X      (**) as reported by 'gcc -v'

Package status is indicated by one of the following glyphs
 TIMEOUT  INSTALL, BUILD, CHECK or BUILD BIN of package took more than 80 minutes Use the check boxes to show only packages with the selected status types.
 ERROR  Bad DESCRIPTION file or INSTALL, BUILD or BUILD BIN of package failed, or CHECK produced errors
 WARNINGS  CHECK of package produced warnings
 OK  INSTALL, BUILD, CHECK or BUILD BIN of package was OK
 skipped  CHECK or BUILD BIN of package was skipped because the BUILD step failed
 NA  BUILD, CHECK or BUILD BIN result is not available because of an anomaly in the Build System
Click on any glyph in the report below to access the detailed results.
Package propagation status is indicated by one of the following LEDs
YES YES: Package was propagated because it didn't previously exist or version was bumped
NO NO: Package was not propagated because of a problem (impossible dependencies, or version lower than what is already propagated)
UNNEEDED UNNEEDED: Package was not propagated because it is already in the repository with this version. A version bump is required in order to propagate it

A crossed-out package name indicates the package is deprecated


SUMMARYOS / ArchINSTALLBUILDCHECKBUILD BIN
malbec1 Linux (Ubuntu 16.04.1 LTS) / x86_64 
00354
01353
0079274
PackageMaintainerINSTALLBUILDCHECKBUILD BIN
1/354ABAData 1.11.0Steffi Grote OK  OK  OK UNNEEDED, same version exists in internal repository
2/354affycompData 1.19.0Harris Jaffee OK  OK  OK UNNEEDED, same version exists in internal repository
3/354affydata 1.29.0Harris Jaffee OK  OK  WARNINGS UNNEEDED, same version exists in internal repository
4/354Affyhgu133A2Expr 1.17.0Zhicheng Ji OK  OK  OK UNNEEDED, same version exists in internal repository
5/354Affyhgu133aExpr 1.19.0Zhicheng Ji OK  OK  OK UNNEEDED, same version exists in internal repository
6/354Affyhgu133Plus2Expr 1.15.0Zhicheng Ji OK  OK  OK UNNEEDED, same version exists in internal repository
7/354AffymetrixDataTestFiles 0.19.0Henrik Bengtsson OK  OK  OK UNNEEDED, same version exists in internal repository
8/354Affymoe4302Expr 1.19.0Zhicheng Ji OK  OK  OK UNNEEDED, same version exists in internal repository
9/354airway 1.1.0Michael Love OK  OK  OK UNNEEDED, same version exists in internal repository
10/354ALL 1.23.0Robert Gentleman OK  OK  OK UNNEEDED, same version exists in internal repository
11/354allenpvc 0.99.2Diogo P. P. Branco OK  OK  OK UNNEEDED, same version exists in internal repository
12/354ALLMLL 1.21.0B. M. Bolstad OK  OK  OK UNNEEDED, same version exists in internal repository
13/354alpineData 1.7.1Michael Love OK  OK  OK UNNEEDED, same version exists in internal repository
14/354AmpAffyExample 1.21.0Rafael A. Irizarry OK  OK  WARNINGS UNNEEDED, same version exists in internal repository
15/354AneuFinderData 1.9.0Aaron Taudt OK  OK  WARNINGS UNNEEDED, same version exists in internal repository
16/354antiProfilesData 1.17.0Hector Corrada Bravo OK  OK  OK UNNEEDED, same version exists in internal repository
17/354aracne.networks 1.7.0Federico M. Giorgi , Mariano Alvarez OK  OK  WARNINGS UNNEEDED, same version exists in internal repository
18/354ARRmData 1.17.0Jean-Philippe Fortin OK  OK  OK UNNEEDED, same version exists in internal repository
19/354AshkenazimSonChr21 1.11.0Who to complain to OK  OK  OK UNNEEDED, same version exists in internal repository
20/354ASICSdata 1.1.0Gaëlle Lefort OK  OK  OK UNNEEDED, same version exists in internal repository
21/354bcellViper 1.17.0Mariano Javier Alvarez OK  OK  OK UNNEEDED, same version exists in internal repository
22/354beadarrayExampleData 1.19.0Mark Dunning OK  OK  OK UNNEEDED, same version exists in internal repository
23/354BeadArrayUseCases 1.19.1Mike Smith OK  OK  WARNINGS UNNEEDED, same version exists in internal repository
24/354beta7 1.19.0Jean Yang OK  OK  WARNINGS UNNEEDED, same version exists in internal repository
25/354biotmleData 1.5.0Nima Hejazi OK  OK  OK UNNEEDED, same version exists in internal repository
26/354bladderbatch 1.19.0Jeffrey T. Leek OK  OK  WARNINGS UNNEEDED, same version exists in internal repository
27/354blimaTestingData 1.1.0Vojtech Kulvait OK  OK  OK UNNEEDED, same version exists in internal repository
28/354BloodCancerMultiOmics2017 1.1.4Malgorzata Oles OK  OK  OK UNNEEDED, same version exists in internal repository
29/354brainImageRdata 0.99.6Sara Linker OK  OK  OK UNNEEDED, same version exists in internal repository
30/354breakpointRdata 0.99.2David Porubsky OK  OK  OK UNNEEDED, same version exists in internal repository
31/354breastCancerMAINZ 1.19.0Markus Schroeder , Benjamin Haibe-Kains OK  OK  WARNINGS UNNEEDED, same version exists in internal repository
32/354breastCancerNKI 1.19.0Markus Schroeder , Benjamin Haibe-Kains OK  OK  WARNINGS UNNEEDED, same version exists in internal repository
33/354breastCancerTRANSBIG 1.19.0Markus Schroeder , Benjamin Haibe-Kains OK  OK  WARNINGS UNNEEDED, same version exists in internal repository
34/354breastCancerUNT 1.19.0Markus Schroeder , Benjamin Haibe-Kains OK  OK  WARNINGS UNNEEDED, same version exists in internal repository
35/354breastCancerUPP 1.19.0Markus Schroeder , Benjamin Haibe-Kains OK  OK  WARNINGS UNNEEDED, same version exists in internal repository
36/354breastCancerVDX 1.19.0Markus Schroeder , Benjamin Haibe-Kains OK  OK  WARNINGS UNNEEDED, same version exists in internal repository
37/354brgedata 1.3.0Carlos Ruiz-Arenas OK  OK  WARNINGS UNNEEDED, same version exists in internal repository
38/354bronchialIL13 1.19.0Vince Carey OK  OK  OK UNNEEDED, same version exists in internal repository
39/354bsseqData 0.19.1Kasper Daniel Hansen OK  OK  OK UNNEEDED, same version exists in internal repository
40/354cancerdata 1.19.0Daniel Kosztyla OK  OK  OK UNNEEDED, same version exists in internal repository
41/354CardinalWorkflows 1.13.0Kylie A. Bemis OK  OK  OK UNNEEDED, same version exists in internal repository
42/354ccdata 1.7.0Alex Pickering OK  OK  WARNINGS UNNEEDED, same version exists in internal repository
43/354CCl4 1.19.0Audrey Kauffmann OK  OK  WARNINGS UNNEEDED, same version exists in internal repository
44/354ccTutorial 1.19.3Joern Toedling OK  OK  OK UNNEEDED, same version exists in internal repository
45/354celarefData 0.99.0Sarah Williams OK  OK  OK UNNEEDED, same version exists in internal repository
46/354CellMapperData 1.7.0Brad Nelms OK  OK  OK UNNEEDED, same version exists in internal repository
47/354ceu1kg 0.19.0VJ Carey OK  OK  OK UNNEEDED, same version exists in internal repository
48/354ceu1kgv 0.23.0VJ Carey OK  OK  OK UNNEEDED, same version exists in internal repository
49/354ceuhm3 0.19.0VJ Carey OK  OK  OK UNNEEDED, same version exists in internal repository
50/354cgdv17 0.19.0VJ Carey OK  OK  OK UNNEEDED, same version exists in internal repository
51/354ChAMPdata 2.13.0Yuan Tian OK  OK  OK UNNEEDED, same version exists in internal repository
52/354charmData 1.17.0Martin Aryee OK  OK  WARNINGS UNNEEDED, same version exists in internal repository
53/354ChIC.data 1.1.4Carmen Maria Livi OK  OK  OK UNNEEDED, same version exists in internal repository
54/354ChimpHumanBrainData 1.19.0Sean Davis OK  OK  OK UNNEEDED, same version exists in internal repository
55/354chipenrich.data 2.5.0Raymond G. Cavalcante OK  OK  OK UNNEEDED, same version exists in internal repository
56/354ChIPexoQualExample 1.5.0Rene Welch OK  OK  OK UNNEEDED, same version exists in internal repository
57/354ChIPXpressData 1.19.0George Wu OK  OK  WARNINGS UNNEEDED, same version exists in internal repository
58/354chromstaRData 1.7.0Aaron Taudt OK  OK  OK UNNEEDED, same version exists in internal repository
59/354CLL 1.21.0Robert Gentleman OK  OK  OK UNNEEDED, same version exists in internal repository
60/354CLLmethylation 1.1.1Malgorzata Oles , Andreas Mock OK  OK  OK UNNEEDED, same version exists in internal repository
61/354cMap2data 1.17.0J. Saez-Rodriguez OK  OK  OK UNNEEDED, same version exists in internal repository
62/354cnvGSAdata 1.17.0Joseph Lugo OK  OK  WARNINGS UNNEEDED, same version exists in internal repository
63/354COHCAPanno 1.17.0Charles Warden OK  OK  OK UNNEEDED, same version exists in internal repository
64/354colonCA 1.23.0W Sylvia Merk OK  OK  WARNINGS UNNEEDED, same version exists in internal repository
65/354CONFESSdata 1.9.0Diana LOW OK  OK  OK UNNEEDED, same version exists in internal repository
66/354ConnectivityMap 1.17.0Paul Shannon OK  OK  OK UNNEEDED, same version exists in internal repository
67/354COPDSexualDimorphism.data 1.17.0J Fah Sathirapongsasuti OK  OK  WARNINGS UNNEEDED, same version exists in internal repository
68/354CopyhelpeR 1.13.0Thomas Kuilman OK  OK  OK UNNEEDED, same version exists in internal repository
69/354CopyNeutralIMA 0.99.14Xavier Pastor Hostench OK  OK  OK UNNEEDED, same version exists in internal repository
70/354COSMIC.67 1.17.0Julian Gehring OK  OK  OK UNNEEDED, same version exists in internal repository
71/354CRCL18 1.1.0Claudio Isella OK  OK  OK UNNEEDED, same version exists in internal repository
72/354curatedBladderData 1.17.0Markus Riester OK  OK  OK UNNEEDED, same version exists in internal repository
73/354curatedBreastData 2.9.0Katie Planey OK  OK  OK UNNEEDED, same version exists in internal repository
74/354curatedCRCData 2.13.0Princy Parsana OK  OK  OK UNNEEDED, same version exists in internal repository
75/354curatedMetagenomicData 1.11.5Lucas Schiffer OK  OK  OK UNNEEDED, same version exists in internal repository
76/354curatedOvarianData 1.19.0Levi Waldron OK  OK  OK UNNEEDED, same version exists in internal repository
77/354curatedTCGAData 1.3.5Marcel Ramos OK  OK  OK UNNEEDED, same version exists in internal repository
78/354DAPARdata 1.11.2Samuel Wieczorek OK  OK  WARNINGS UNNEEDED, same version exists in internal repository
79/354davidTiling 1.21.0Wolfgang Huber OK  OK  WARNINGS UNNEEDED, same version exists in internal repository
80/354derfinderData 1.99.0Leonardo Collado-Torres OK  OK  OK UNNEEDED, same version exists in internal repository
81/354DeSousa2013 1.17.2Xin Wang OK  OK  OK UNNEEDED, same version exists in internal repository
82/354diffloopdata 1.9.0Caleb Lareau OK  OK  OK UNNEEDED, same version exists in internal repository
83/354diggitdata 1.13.0Mariano Javier Alvarez OK  OK  OK UNNEEDED, same version exists in internal repository
84/354DLBCL 1.21.0Marcus Dittrich OK  OK  WARNINGS UNNEEDED, same version exists in internal repository
85/354DmelSGI 1.13.1Bernd Fischer OK  OK  OK UNNEEDED, same version exists in internal repository
86/354DMRcatedata 1.17.0Tim Peters OK  OK  WARNINGS UNNEEDED, same version exists in internal repository
87/354DonaPLLP2013 1.19.1Joseph D. Barry OK  OK  OK UNNEEDED, same version exists in internal repository
88/354DREAM4 1.17.0Paul Shannon OK  OK  WARNINGS UNNEEDED, same version exists in internal repository
89/354dressCheck 0.19.0Vincent Carey OK  OK  OK UNNEEDED, same version exists in internal repository
90/354DrugVsDiseasedata 1.17.0J. Saez-Rodriguez OK  OK  OK UNNEEDED, same version exists in internal repository
91/354dsQTL 0.19.0VJ Carey OK  OK  OK UNNEEDED, same version exists in internal repository
92/354DuoClustering2018 0.99.2Angelo Duò OK  OK  OK UNNEEDED, same version exists in internal repository
93/354DvDdata 1.17.0J. Saez-Rodriguez OK  OK  OK UNNEEDED, same version exists in internal repository
94/354dyebiasexamples 1.21.0Philip Lijnzaad OK  OK  WARNINGS UNNEEDED, same version exists in internal repository
95/354EatonEtAlChIPseq 0.19.0Patrick Aboyoun OK  OK  OK UNNEEDED, same version exists in internal repository
96/354ecoliLeucine 1.21.0Laurent Gautier OK  OK  WARNINGS UNNEEDED, same version exists in internal repository
97/354EGSEAdata 1.9.0Monther Alhamdoosh OK  OK  OK UNNEEDED, same version exists in internal repository
98/354ELMER.data 2.5.5Tiago Chedraoui Silva OK  OK  OK UNNEEDED, same version exists in internal repository
99/354estrogen 1.27.0Wolfgang Huber OK  OK  OK UNNEEDED, same version exists in internal repository
100/354etec16s 1.9.0Joseph N. Paulson OK  OK  OK UNNEEDED, same version exists in internal repository
101/354faahKO 1.21.0Colin A. Smith OK  OK  WARNINGS UNNEEDED, same version exists in internal repository
102/354fabiaData 1.19.0Sepp Hochreiter OK  OK  OK UNNEEDED, same version exists in internal repository
103/354facopy.annot 1.1.0David Mosen-Ansorena OK  OK  OK UNNEEDED, same version exists in internal repository
104/354facsDorit 1.23.0Florian Hahne OK  OK  OK UNNEEDED, same version exists in internal repository
105/354FANTOM3and4CAGE 1.17.0Vanja Haberle OK  OK  OK UNNEEDED, same version exists in internal repository
106/354ffpeExampleData 1.19.0Levi Waldron OK  OK  OK UNNEEDED, same version exists in internal repository
107/354fibroEset 1.23.0Sylvia Merk OK  OK  WARNINGS UNNEEDED, same version exists in internal repository
108/354FIs 1.9.0Herbert Braselmann OK  OK  OK UNNEEDED, same version exists in internal repository
109/354fission 1.1.0Michael Love OK  OK  OK UNNEEDED, same version exists in internal repository
110/354Fletcher2013a 1.17.0Mauro Castro OK  OK  OK UNNEEDED, same version exists in internal repository
111/354Fletcher2013b 1.17.0Mauro Castro OK  OK  OK UNNEEDED, same version exists in internal repository
112/354flowFitExampleData 1.17.0Davide Rambaldi OK  OK  OK UNNEEDED, same version exists in internal repository
113/354flowPloidyData 1.7.0Tyler Smith OK  OK  OK UNNEEDED, same version exists in internal repository
114/354flowQBData 1.7.0Josef Spidlen OK  OK  OK UNNEEDED, same version exists in internal repository
115/354FlowSorted.Blood.450k 1.19.0Andrew E Jaffe OK  OK  OK UNNEEDED, same version exists in internal repository
116/354FlowSorted.Blood.EPIC 0.99.36Lucas A. Salas OK  OK  OK UNNEEDED, same version exists in internal repository
117/354FlowSorted.CordBlood.450k 1.9.0Shan V. Andrews OK  OK  OK UNNEEDED, same version exists in internal repository
118/354FlowSorted.CordBloodNorway.450k 1.7.0kristina gervin OK  OK  OK UNNEEDED, same version exists in internal repository
119/354FlowSorted.DLPFC.450k 1.17.0Andrew E Jaffe OK  OK  OK UNNEEDED, same version exists in internal repository
120/354flowWorkspaceData 2.17.0Mike Jiang OK  OK  OK UNNEEDED, same version exists in internal repository
121/354frmaExampleData 1.17.0Matthew N. McCall OK  OK  WARNINGS UNNEEDED, same version exists in internal repository
122/354FunciSNP.data 1.17.0Simon G. Coetzee OK  OK  OK UNNEEDED, same version exists in internal repository
123/354furrowSeg 1.9.0Joseph Barry OK  OK  WARNINGS UNNEEDED, same version exists in internal repository
124/354gageData 2.19.0Weijun Luo OK  OK  OK UNNEEDED, same version exists in internal repository
125/354gaschYHS 1.19.0Vince Carey OK  OK  OK UNNEEDED, same version exists in internal repository
126/354gatingMLData 2.21.0J. Spidlen OK  OK  OK UNNEEDED, same version exists in internal repository
127/354gcspikelite 1.19.0Mark Robinson OK  OK  WARNINGS UNNEEDED, same version exists in internal repository
128/354geneLenDataBase 1.17.0Nadia Davidson , Anthony Hawkins OK  OK  WARNINGS UNNEEDED, same version exists in internal repository
129/354genomationData 1.13.0Vedran Franke OK  OK  OK UNNEEDED, same version exists in internal repository
130/354GeuvadisTranscriptExpr 1.9.0Malgorzata Nowicka OK  OK  OK UNNEEDED, same version exists in internal repository
131/354geuvPack 1.13.0VJ Carey OK  OK  OK UNNEEDED, same version exists in internal repository
132/354geuvStore2 1.11.0VJ Carey OK  OK  WARNINGS UNNEEDED, same version exists in internal repository
133/354GGdata 1.19.0VJ Carey OK  OK  OK UNNEEDED, same version exists in internal repository
134/354GIGSEAdata 0.99.11Shijia Zhu OK  OK  OK UNNEEDED, same version exists in internal repository
135/354golubEsets 1.23.0Vince Carey OK  OK  OK UNNEEDED, same version exists in internal repository
136/354grndata 1.13.0Pau Bellot OK  OK  OK UNNEEDED, same version exists in internal repository
137/354GSBenchMark 1.1.0Bahman Afsari OK  OK  OK UNNEEDED, same version exists in internal repository
138/354GSE62944 1.9.0Bioconductor Package Maintainer OK  OK  OK UNNEEDED, same version exists in internal repository
139/354gskb 1.13.1Valerie Bares OK  OK  OK UNNEEDED, same version exists in internal repository
140/354GSVAdata 1.17.0Robert Castelo OK  OK  OK UNNEEDED, same version exists in internal repository
141/354GWASdata 1.19.0Stephanie Gogarten , Adrienne Stilp OK  OK  OK UNNEEDED, same version exists in internal repository
142/354h5vcData 2.1.0Paul Theodor Pyl OK  OK  OK UNNEEDED, same version exists in internal repository
143/354hapmap100khind 1.23.0Benilton Carvalho OK  OK  OK UNNEEDED, same version exists in internal repository
144/354hapmap100kxba 1.23.0Benilton Carvalho OK  OK  OK UNNEEDED, same version exists in internal repository
145/354hapmap500knsp 1.23.0Benilton Carvalho OK  OK  OK UNNEEDED, same version exists in internal repository
146/354hapmap500ksty 1.23.0Benilton Carvalho OK  OK  OK UNNEEDED, same version exists in internal repository
147/354hapmapsnp5 1.23.0Benilton Carvalho OK  OK  OK UNNEEDED, same version exists in internal repository
148/354hapmapsnp6 1.23.0Benilton Carvalho OK  OK  OK UNNEEDED, same version exists in internal repository
149/354harbChIP 1.19.0VJ Carey OK  OK  OK UNNEEDED, same version exists in internal repository
150/354HarmanData 1.9.0Jason Ross OK  OK  OK UNNEEDED, same version exists in internal repository
151/354HarmonizedTCGAData 1.3.0Tianle Ma OK  OK  OK UNNEEDED, same version exists in internal repository
152/354HD2013SGI 1.21.1Bernd Fischer OK  OK  OK UNNEEDED, same version exists in internal repository
153/354HDCytoData 1.1.2Lukas M. Weber OK  OK  OK UNNEEDED, same version exists in internal repository
154/354healthyFlowData 1.19.0Ariful Azad OK  OK  OK UNNEEDED, same version exists in internal repository
155/354HEEBOdata 1.19.0Agnes Paquet OK  OK  WARNINGS UNNEEDED, same version exists in internal repository
156/354HelloRangesData 1.7.0Michael Lawrence OK  OK  OK UNNEEDED, same version exists in internal repository
157/354hgu133abarcodevecs 1.19.0Matthew N. McCall OK  OK  OK UNNEEDED, same version exists in internal repository
158/354hgu133plus2barcodevecs 1.19.0Matthew N. McCall OK  OK  OK UNNEEDED, same version exists in internal repository
159/354hgu133plus2CellScore 1.1.1Nancy Mah OK  OK  OK UNNEEDED, same version exists in internal repository
160/354hgu2beta7 1.21.0Bioconductor Package Maintainer OK  OK  WARNINGS UNNEEDED, same version exists in internal repository
161/354HiCDataHumanIMR90 1.1.0Nicolas Servant OK  OK  OK UNNEEDED, same version exists in internal repository
162/354HiCDataLymphoblast 1.17.0Borbala Mifsud OK  OK  OK UNNEEDED, same version exists in internal repository
163/354Hiiragi2013 1.17.0Andrzej Oles OK  OK  OK UNNEEDED, same version exists in internal repository
164/354HIVcDNAvantWout03 1.21.0Chris Fraley OK  OK  WARNINGS UNNEEDED, same version exists in internal repository
165/354HMP16SData 1.1.4Lucas Schiffer OK  OK  OK UNNEEDED, same version exists in internal repository
166/354hmyriB36 1.17.0Vincent Carey OK  OK  OK UNNEEDED, same version exists in internal repository
167/354HSMMSingleCell 1.1.0Cole Trapnell OK  OK  WARNINGS UNNEEDED, same version exists in internal repository
168/354HumanAffyData 1.7.0Brad Nelms OK  OK  OK UNNEEDED, same version exists in internal repository
169/354humanStemCell 0.21.0R. Gentleman OK  OK  WARNINGS UNNEEDED, same version exists in internal repository
170/354IHWpaper 1.9.6Nikos Ignatiadis OK  OK  OK UNNEEDED, same version exists in internal repository
171/354Illumina450ProbeVariants.db 1.17.0Tiffany Morris OK  OK  OK UNNEEDED, same version exists in internal repository
172/354IlluminaDataTestFiles 1.19.0Kasper Daniel Hansen OK  OK  OK UNNEEDED, same version exists in internal repository
173/354iontreeData 1.17.2Mingshu Cao OK  OK  WARNINGS UNNEEDED, same version exists in internal repository
174/354ITALICSData 2.19.0Guillem Rigaill OK  OK  WARNINGS UNNEEDED, same version exists in internal repository
175/354Iyer517 1.23.0Vince Carey OK  OK  OK UNNEEDED, same version exists in internal repository
176/354JASPAR2014 1.17.0Ge Tan OK  OK  OK UNNEEDED, same version exists in internal repository
177/354JASPAR2016 1.9.0Ge Tan OK  OK  OK UNNEEDED, same version exists in internal repository
178/354JctSeqData 1.11.0Stephen Hartley OK  OK  OK UNNEEDED, same version exists in internal repository
179/354KEGGandMetacoreDzPathwaysGEO 1.1.0Gaurav Bhatti OK  OK  OK UNNEEDED, same version exists in internal repository
180/354KEGGdzPathwaysGEO 1.19.0Gaurav Bhatti OK  OK  OK UNNEEDED, same version exists in internal repository
181/354kidpack 1.23.0Wolfgang Huber OK  OK  WARNINGS UNNEEDED, same version exists in internal repository
182/354KOdata 1.7.0Shana White OK  OK  OK UNNEEDED, same version exists in internal repository
183/354leeBamViews 1.17.0VJ Carey OK  OK  OK UNNEEDED, same version exists in internal repository
184/354leukemiasEset 1.17.0Sara Aibar OK  OK  OK UNNEEDED, same version exists in internal repository
185/354LiebermanAidenHiC2009 0.19.0Felix Klein OK  OK  WARNINGS UNNEEDED, same version exists in internal repository
186/354ListerEtAlBSseq 1.13.0Kamal Kishore OK  OK  WARNINGS UNNEEDED, same version exists in internal repository
187/354lumiBarnes 1.21.0Pan Du OK  OK  WARNINGS UNNEEDED, same version exists in internal repository
188/354LungCancerACvsSCCGEO 1.17.0Adi Laurentiu Tarca OK  OK  OK UNNEEDED, same version exists in internal repository
189/354LungCancerLines 0.19.0Cory Barr OK  OK  OK UNNEEDED, same version exists in internal repository
190/354lungExpression 0.19.0Robert Scharpf OK  OK  OK UNNEEDED, same version exists in internal repository
191/354lydata 1.7.0Alex Pickering OK  OK  OK UNNEEDED, same version exists in internal repository
192/354M3DExampleData 1.7.0Tallulah Andrews OK  OK  WARNINGS UNNEEDED, same version exists in internal repository
193/354mammaPrintData 1.17.2Luigi Marchionni OK  OK  OK UNNEEDED, same version exists in internal repository
194/354mAPKLData 1.13.0Argiris Sakellariou OK  OK  WARNINGS UNNEEDED, same version exists in internal repository
195/354maqcExpression4plex 1.25.0Benilton Carvalho OK  OK  OK UNNEEDED, same version exists in internal repository
196/354MAQCsubset 1.19.0VJ Carey OK  OK  OK UNNEEDED, same version exists in internal repository
197/354MAQCsubsetAFX 1.19.0Laurent Gatto OK  OK  OK UNNEEDED, same version exists in internal repository
198/354MAQCsubsetILM 1.19.0Laurent Gatto OK  OK  OK UNNEEDED, same version exists in internal repository
199/354mCSEAdata 1.1.0Jordi Martorell Marugán OK  OK  OK UNNEEDED, same version exists in internal repository
200/354mcsurvdata 0.99.4Adria Caballe Mestres OK  OK  OK UNNEEDED, same version exists in internal repository
201/354MEDIPSData 1.17.0Lukas Chavez OK  OK  OK UNNEEDED, same version exists in internal repository
202/354MEEBOdata 1.19.0Agnes Paquet OK  OK  WARNINGS UNNEEDED, same version exists in internal repository
203/354MetaGxBreast 1.1.1Michael Zon OK  OK  OK UNNEEDED, same version exists in internal repository
204/354MetaGxOvarian 1.1.1Michael Zon OK  OK  WARNINGS UNNEEDED, same version exists in internal repository
205/354MetaGxPancreas 1.1.1Michael Zon OK  OK  OK UNNEEDED, same version exists in internal repository
206/354metaMSdata 1.17.0Ron Wehrens OK  OK  OK UNNEEDED, same version exists in internal repository
207/354MethylAidData 1.13.0M. van Iterson OK  OK  OK UNNEEDED, same version exists in internal repository
208/354methyvimData 1.3.0Nima Hejazi OK  OK  OK UNNEEDED, same version exists in internal repository
209/354microRNAome 1.3.0Matthew N. McCall OK  OK  OK UNNEEDED, same version exists in internal repository
210/354MIGSAdata 1.5.0Juan C. Rodriguez OK  OK  OK UNNEEDED, same version exists in internal repository
211/354minfiData 0.27.0Kasper Daniel Hansen OK  OK  OK UNNEEDED, same version exists in internal repository
212/354minfiDataEPIC 1.7.0Kasper Daniel Hansen OK  OK  OK UNNEEDED, same version exists in internal repository
213/354minionSummaryData 1.11.0Mike Smith OK  OK  OK UNNEEDED, same version exists in internal repository
214/354miRcompData 1.11.0Matthew N. McCall OK  OK  OK UNNEEDED, same version exists in internal repository
215/354miRNATarget 1.19.0Y-h. Taguchi OK  OK  OK UNNEEDED, same version exists in internal repository
216/354mitoODEdata 1.17.0Gregoire Pau OK  OK  OK UNNEEDED, same version exists in internal repository
217/354MMDiffBamSubset 1.17.0Gabriele Schweikert OK  OK  OK UNNEEDED, same version exists in internal repository
218/354mosaicsExample 1.19.0Dongjun Chung OK  OK  OK UNNEEDED, same version exists in internal repository
219/354mouse4302barcodevecs 1.19.0Matthew N. McCall OK  OK  OK UNNEEDED, same version exists in internal repository
220/354MSBdata 0.99.1Wolfgang Huber OK  OK  WARNINGS UNNEEDED, same version exists in internal repository
221/354msd16s 1.1.0Joseph N. Paulson OK  OK  OK UNNEEDED, same version exists in internal repository
222/354msdata 0.21.0Steffen Neumann , Laurent Gatto OK  OK  OK UNNEEDED, same version exists in internal repository
223/354msPurityData 1.9.0Thomas N. Lawson OK  OK  OK UNNEEDED, same version exists in internal repository
224/354msqc1 1.9.1Christian Panse OK  OK  OK UNNEEDED, same version exists in internal repository
225/354MSstatsBioData 1.3.0Meena Choi OK  OK  OK UNNEEDED, same version exists in internal repository
226/354mtbls2 1.11.0Steffen Neumann OK  OK  OK UNNEEDED, same version exists in internal repository
227/354MUGAExampleData 1.1.0Daniel Gatti OK  OK  OK UNNEEDED, same version exists in internal repository
228/354Mulder2012 0.21.1Xin Wang OK  OK  OK UNNEEDED, same version exists in internal repository
229/354mvoutData 1.17.0VJ Carey OK  OK  OK UNNEEDED, same version exists in internal repository
230/354NCIgraphData 1.17.0Laurent Jacob OK  OK  WARNINGS UNNEEDED, same version exists in internal repository
231/354Neve2006 0.19.0VJ Carey OK  OK  OK UNNEEDED, same version exists in internal repository
232/354NGScopyData 1.1.0Xiaobei Zhao OK  OK  OK UNNEEDED, same version exists in internal repository
233/354OMICsPCAdata 0.99.11Subhadeep Das OK  OK  OK UNNEEDED, same version exists in internal repository
234/354OnassisJavaLibs 1.3.0Eugenia Galeota OK  OK  OK UNNEEDED, same version exists in internal repository
235/354parathyroidSE 1.19.0Michael Love OK  OK  OK UNNEEDED, same version exists in internal repository
236/354pasilla 1.9.0Alejandro Reyes OK  OK  OK UNNEEDED, same version exists in internal repository
237/354pasillaBamSubset 0.19.0Hervé Pagès OK  OK  OK UNNEEDED, same version exists in internal repository
238/354PasillaTranscriptExpr 1.9.0Malgorzata Nowicka OK  OK  OK UNNEEDED, same version exists in internal repository
239/354PathNetData 1.17.0Jason B. Smith OK  OK  OK UNNEEDED, same version exists in internal repository
240/354pathprintGEOData 1.11.0Sokratis Kariotis OK  OK  OK UNNEEDED, same version exists in internal repository
241/354pcaGoPromoter.Hs.hg19 1.17.0Morten Hansen OK  OK  OK UNNEEDED, same version exists in internal repository
242/354pcaGoPromoter.Mm.mm9 1.17.0Morten Hansen OK  OK  OK UNNEEDED, same version exists in internal repository
243/354pcaGoPromoter.Rn.rn4 1.17.0Morten Hansen, OK  OK  OK UNNEEDED, same version exists in internal repository
244/354PCHiCdata 1.9.0Paula Freire-Pritchett OK  OK  OK UNNEEDED, same version exists in internal repository
245/354pcxnData 2.3.0Sokratis Kariotis OK  OK  OK UNNEEDED, same version exists in internal repository
246/354pd.atdschip.tiling 0.19.0Kristof De Beuf OK  OK  WARNINGS UNNEEDED, same version exists in internal repository
247/354pepDat 1.1.0Renan Sauteraud OK  OK  OK UNNEEDED, same version exists in internal repository
248/354PGPC 1.9.0Felix Klein OK  ERROR  skipped 
249/354plasFIA 1.9.0Alexis Delabriere OK  OK  OK UNNEEDED, same version exists in internal repository
250/354ppiData 0.19.0Bioconductor Package Maintainer OK  OK  WARNINGS UNNEEDED, same version exists in internal repository
251/354prebsdata 1.17.0Karolis Uziela OK  OK  OK UNNEEDED, same version exists in internal repository
252/354PREDAsampledata 0.21.0Francesco Ferrari OK  OK  OK UNNEEDED, same version exists in internal repository
253/354ProData 1.19.0Xiaochun Li OK  OK  OK UNNEEDED, same version exists in internal repository
254/354pRolocdata 1.19.5Laurent Gatto OK  OK  OK UNNEEDED, same version exists in internal repository
255/354prostateCancerCamcap 1.9.0Mark Dunning OK  OK  OK UNNEEDED, same version exists in internal repository
256/354prostateCancerGrasso 1.9.0Mark Dunning OK  OK  OK UNNEEDED, same version exists in internal repository
257/354prostateCancerStockholm 1.9.0Mark Dunning OK  OK  OK UNNEEDED, same version exists in internal repository
258/354prostateCancerTaylor 1.9.0Mark Dunning OK  OK  OK UNNEEDED, same version exists in internal repository
259/354prostateCancerVarambally 1.9.0Mark Dunning OK  OK  OK UNNEEDED, same version exists in internal repository
260/354PtH2O2lipids 1.7.1James Collins OK  OK  WARNINGS UNNEEDED, same version exists in internal repository
261/354pumadata 2.17.0Richard Pearson OK  OK  OK UNNEEDED, same version exists in internal repository
262/354PWMEnrich.Dmelanogaster.background 4.15.0Robert Stojnic OK  OK  WARNINGS UNNEEDED, same version exists in internal repository
263/354PWMEnrich.Hsapiens.background 4.15.0Robert Stojnic OK  OK  WARNINGS UNNEEDED, same version exists in internal repository
264/354PWMEnrich.Mmusculus.background 4.15.0Robert Stojnic OK  OK  OK UNNEEDED, same version exists in internal repository
265/354QDNAseq.hg19 1.11.0Daoud Sie OK  OK  OK UNNEEDED, same version exists in internal repository
266/354QDNAseq.mm10 1.11.0Daoud Sie OK  OK  OK UNNEEDED, same version exists in internal repository
267/354qPLEXdata 0.99.1Kamal Kishore Developer OK  OK  WARNINGS UNNEEDED, same version exists in internal repository
268/354QUBICdata 1.9.0Yu Zhang OK  OK  OK UNNEEDED, same version exists in internal repository
269/354rcellminerData 2.3.1Augustin Luna , Vinodh Rajapakse OK  OK  WARNINGS UNNEEDED, same version exists in internal repository
270/354RcisTarget.hg19.motifDBs.cisbpOnly.500bp 1.1.1Sara Aibar OK  OK  OK UNNEEDED, same version exists in internal repository
271/354restfulSEData 1.3.0Bioconductor Package Maintainer OK  OK  OK UNNEEDED, same version exists in internal repository
272/354RforProteomics 1.19.4Laurent Gatto OK  OK  WARNINGS UNNEEDED, same version exists in internal repository
273/354RGMQLlib 1.1.0Simone Pallotta OK  OK  OK UNNEEDED, same version exists in internal repository
274/354rheumaticConditionWOLLBOLD 1.19.0Alejandro Quiroz-Zarate OK  OK  OK UNNEEDED, same version exists in internal repository
275/354RIPSeekerData 1.17.0Alejandro Reyes OK  OK  WARNINGS UNNEEDED, same version exists in internal repository
276/354RITANdata 1.5.0Michael Zimmermann OK  OK  OK UNNEEDED, same version exists in internal repository
277/354RMassBankData 1.19.0Michael Stravs, Emma Schymanski OK  OK  OK UNNEEDED, same version exists in internal repository
278/354RNAinteractMAPK 1.19.1Bernd Fischer OK  OK  OK UNNEEDED, same version exists in internal repository
279/354RNAseqData.HNRNPC.bam.chr14 0.19.0Hervé Pagès OK  OK  OK UNNEEDED, same version exists in internal repository
280/354RnaSeqSampleSizeData 1.13.1Shilin Zhao OK  OK  OK UNNEEDED, same version exists in internal repository
281/354RnBeads.hg19 1.13.1RnBeadsAnnotationCreator OK  OK  OK UNNEEDED, same version exists in internal repository
282/354RnBeads.hg38 1.13.0RnBeadsAnnotationCreator OK  OK  OK UNNEEDED, same version exists in internal repository
283/354RnBeads.mm10 1.13.0RnBeadsAnnotationCreator OK  OK  OK UNNEEDED, same version exists in internal repository
284/354RnBeads.mm9 1.13.0RnBeadsAnnotationCreator OK  OK  OK UNNEEDED, same version exists in internal repository
285/354RnBeads.rn5 1.13.0RnBeadsAnnotationCreator OK  OK  OK UNNEEDED, same version exists in internal repository
286/354RRBSdata 1.1.0Katja Hebestreit OK  OK  OK UNNEEDED, same version exists in internal repository
287/354rRDPData 1.1.0Michael Hahsler OK  OK  OK UNNEEDED, same version exists in internal repository
288/354RTCGA.clinical 20151101.11.0Marcin Kosinski OK  OK  OK UNNEEDED, same version exists in internal repository
289/354RTCGA.CNV 1.9.2Marcin Kosinski OK  OK  OK UNNEEDED, same version exists in internal repository
290/354RTCGA.methylation 1.9.2Marcin Kosinski OK  OK  OK UNNEEDED, same version exists in internal repository
291/354RTCGA.miRNASeq 1.9.2Marcin Kosinski OK  OK  OK UNNEEDED, same version exists in internal repository
292/354RTCGA.mRNA 1.9.2Marcin Kosinski OK  OK  OK UNNEEDED, same version exists in internal repository
293/354RTCGA.mutations 20151101.11.0Marcin Kosinski OK  OK  OK UNNEEDED, same version exists in internal repository
294/354RTCGA.PANCAN12 1.9.2Marcin Kosinski OK  OK  OK UNNEEDED, same version exists in internal repository
295/354RTCGA.rnaseq 20151101.11.0Marcin Kosinski OK  OK  OK UNNEEDED, same version exists in internal repository
296/354RTCGA.RPPA 1.9.2Marcin Kosinski OK  OK  OK UNNEEDED, same version exists in internal repository
297/354RUVnormalizeData 1.1.0Laurent Jacob OK  OK  OK UNNEEDED, same version exists in internal repository
298/354sampleClassifierData 1.5.0Khadija El Amrani OK  OK  OK UNNEEDED, same version exists in internal repository
299/354SCLCBam 1.13.0Thomas Kuilman OK  OK  OK UNNEEDED, same version exists in internal repository
300/354scRNAseq 1.7.0Davide Risso OK  OK  OK UNNEEDED, same version exists in internal repository
301/354seq2pathway.data 1.13.0Xinan Holly Yang OK  OK  OK UNNEEDED, same version exists in internal repository
302/354seqc 1.15.2Yang Liao and Wei Shi OK  OK  OK UNNEEDED, same version exists in internal repository
303/354seqCNA.annot 1.17.0David Mosen-Ansorena OK  OK  OK UNNEEDED, same version exists in internal repository
304/354serumStimulation 1.17.0Morten Hansen, OK  OK  OK UNNEEDED, same version exists in internal repository
305/354sesameData 0.99.5Wanding Zhou OK  OK  OK UNNEEDED, same version exists in internal repository
306/354seventyGeneData 1.17.3Luigi Marchionni OK  OK  OK UNNEEDED, same version exists in internal repository
307/354shinyMethylData 1.1.0Jean-Philippe Fortin OK  OK  OK UNNEEDED, same version exists in internal repository
308/354simpIntLists 1.17.0Kircicegi Korkmaz OK  OK  WARNINGS UNNEEDED, same version exists in internal repository
309/354Single.mTEC.Transcriptomes 1.9.0Alejandro Reyes OK  OK  WARNINGS UNNEEDED, same version exists in internal repository
310/354SNAData 1.27.0Denise Scholtens OK  OK  OK UNNEEDED, same version exists in internal repository
311/354SNAGEEdata 1.17.0David Venet OK  OK  OK UNNEEDED, same version exists in internal repository
312/354SNPhoodData 1.11.0Christian Arnold OK  OK  OK UNNEEDED, same version exists in internal repository
313/354SomatiCAData 1.19.0Mengjie Chen OK  OK  WARNINGS UNNEEDED, same version exists in internal repository
314/354SomaticCancerAlterations 1.17.0Julian Gehring OK  OK  OK UNNEEDED, same version exists in internal repository
315/354SpikeIn 1.23.0Rafael A. Irizarry OK  OK  WARNINGS UNNEEDED, same version exists in internal repository
316/354SpikeInSubset 1.21.0Rafael A. Irizarry OK  OK  WARNINGS UNNEEDED, same version exists in internal repository
317/354stemHypoxia 1.17.0Cristobal Fresno OK  OK  OK UNNEEDED, same version exists in internal repository
318/354stjudem 1.21.0Joern Toedling OK  OK  OK UNNEEDED, same version exists in internal repository
319/354SVM2CRMdata 1.13.0Guidantonio Malagoli Tagliazucchi OK  OK  WARNINGS UNNEEDED, same version exists in internal repository
320/354synapterdata 1.19.0Laurent Gatto OK  OK  OK UNNEEDED, same version exists in internal repository
321/354systemPipeRdata 1.9.4Thomas Girke OK  OK  OK UNNEEDED, same version exists in internal repository
322/354TabulaMurisData 0.99.2Charlotte Soneson OK  OK  WARNINGS UNNEEDED, same version exists in internal repository
323/354TargetScoreData 1.17.0Yue Li OK  OK  OK UNNEEDED, same version exists in internal repository
324/354TargetSearchData 1.19.1Alvaro Cuadros-Inostroza OK  OK  OK UNNEEDED, same version exists in internal repository
325/354TBX20BamSubset 1.17.0D. Bindreither OK  OK  OK UNNEEDED, same version exists in internal repository
326/354TCGAbiolinksGUI.data 1.1.1Tiago Chedraoui Silva OK  OK  OK UNNEEDED, same version exists in internal repository
327/354TCGAcrcmiRNA 1.1.0Claudio Isella OK  OK  OK UNNEEDED, same version exists in internal repository
328/354TCGAcrcmRNA 1.1.0Claudio Isella OK  OK  OK UNNEEDED, same version exists in internal repository
329/354TCGAMethylation450k 1.17.0Sean Davis OK  OK  OK UNNEEDED, same version exists in internal repository
330/354tcgaWGBSData.hg19 0.99.3Divy Kangeyan OK  OK  OK UNNEEDED, same version exists in internal repository
331/354TCGAWorkflowData 1.5.0Tiago Chedraoui Silva OK  OK  OK UNNEEDED, same version exists in internal repository
332/354TENxBrainData 1.1.2Bioconductor Package Maintainer OK  OK  WARNINGS UNNEEDED, same version exists in internal repository
333/354TENxPBMCData 0.99.3Stephanie Hicks OK  OK  OK UNNEEDED, same version exists in internal repository
334/354TimerQuant 1.11.0Joseph Barry OK  OK  OK UNNEEDED, same version exists in internal repository
335/354tinesath1cdf 1.19.0Tine Casneuf OK  OK  WARNINGS UNNEEDED, same version exists in internal repository
336/354tinesath1probe 1.19.0Tine Casneuf OK  OK  WARNINGS UNNEEDED, same version exists in internal repository
337/354tissueTreg 1.1.0Charles Imbusch OK  OK  OK UNNEEDED, same version exists in internal repository
338/354tofsimsData 1.9.0Lorenz Gerber OK  OK  OK UNNEEDED, same version exists in internal repository
339/354topdownrdata 1.3.0Sebastian Gibb OK  OK  OK UNNEEDED, same version exists in internal repository
340/354tweeDEseqCountData 1.19.0Juan R Gonzalez OK  OK  OK UNNEEDED, same version exists in internal repository
341/354tximportData 1.9.2Michael Love OK  OK  OK UNNEEDED, same version exists in internal repository
342/354VariantToolsData 1.5.0Michael Lawrence OK  OK  WARNINGS UNNEEDED, same version exists in internal repository
343/354vulcandata 1.3.1Federico M. Giorgi OK  OK  OK UNNEEDED, same version exists in internal repository
344/354waveTilingData 1.17.0Kristof De Beuf OK  OK  WARNINGS UNNEEDED, same version exists in internal repository
345/354WES.1KG.WUGSC 1.13.0Yuchao Jiang OK  OK  OK UNNEEDED, same version exists in internal repository
346/354XhybCasneuf 1.19.0Tineke Casneuf OK  OK  WARNINGS UNNEEDED, same version exists in internal repository
347/354yeastCC 1.21.0Sandrine Dudoit OK  OK  WARNINGS UNNEEDED, same version exists in internal repository
348/354yeastExpData 0.27.0R. Gentleman OK  OK  WARNINGS UNNEEDED, same version exists in internal repository
349/354yeastGSData 0.19.0R. Gentleman OK  OK  WARNINGS UNNEEDED, same version exists in internal repository
350/354yeastNagalakshmi 1.17.0Bioconductor Package Maintainer OK  OK  OK UNNEEDED, same version exists in internal repository
351/354yeastRNASeq 0.19.0J. Bullard OK  OK  WARNINGS UNNEEDED, same version exists in internal repository
352/354yri1kgv 0.23.0VJ Carey OK  OK  OK UNNEEDED, same version exists in internal repository
353/354yriMulti 0.11.0VJ Carey OK  OK  WARNINGS UNNEEDED, same version exists in internal repository
354/354zebrafishRNASeq 1.1.0Davide Risso OK  OK  OK UNNEEDED, same version exists in internal repository