Long tests report for BioC 3.8

This page was generated on 2018-09-15 16:35:03 -0400 (Sat, 15 Sep 2018).

git log

Snapshot Date: 2018-09-15 07:35:06 -0400 (Sat, 15 Sep 2018)

HostnameOSArch (*)Platform label (**)R versionInstalled pkgs
malbec1Linux (Ubuntu 16.04.1 LTS)x86_64x86_64-linux-gnu3.5.1 Patched (2018-07-12 r74967) -- "Feather Spray" -1
Click on any hostname to see more info about the system (e.g. compilers)      (*) as reported by 'uname -p', except on Windows and Mac OS X      (**) as reported by 'gcc -v'

Package status is indicated by one of the following glyphs
 TIMEOUT  CHECK of package took more than 360 minutes Use the check boxes to show only packages with the selected status types.
 ERROR  CHECK of package produced errors
 WARNINGS  CHECK of package produced warnings
 OK  CHECK of package was OK
 NA  CHECK result is not available because of an anomaly in the Build System
Click on any glyph in the report below to access the detailed results.

SUMMARYOS / ArchCHECK
malbec1 Linux (Ubuntu 16.04.1 LTS) / x86_64 
0310
PackageMaintainerCHECK
1/4beachmat 1.3.8Aaron Lun ERROR 
2/4BiocParallel 1.15.12Bioconductor Package Maintainer ERROR 
3/4GenomicFeatures 1.33.2Bioconductor Package Maintainer WARNINGS 
4/4HDF5Array 1.9.19Hervé Pagès ERROR