Long tests report for BioC 3.7

This page was generated on 2018-02-17 16:45:09 -0500 (Sat, 17 Feb 2018).

git log

Snapshot Date: 2018-02-17 07:35:02 -0500 (Sat, 17 Feb 2018)

HostnameOSArch (*)Platform label (**)R versionInstalled pkgs
malbec2Linux (Ubuntu 16.04.1 LTS)x86_64x86_64-linux-gnuR Under development (unstable) (2018-01-28 r74177) -- "Unsuffered Consequences" 2033
merida2OS X 10.11.6 El Capitanx86_64x86_64-apple-darwin15.6.0R Under development (unstable) (2018-01-26 r74169) -- "Unsuffered Consequences" 1941
Click on any hostname to see more info about the system (e.g. compilers)      (*) as reported by 'uname -p', except on Windows and Mac OS X      (**) as reported by 'gcc -v'

Package status is indicated by one of the following glyphs
 TIMEOUT  CHECK of package took more than 360 minutes Use the check boxes to show only packages with the selected status types.
 ERROR  CHECK of package produced errors
 WARNINGS  CHECK of package produced warnings
 OK  CHECK of package was OK
 NA  CHECK result is not available because of an anomaly in the Build System
Click on any glyph in the report below to access the detailed results.

SUMMARYOS / ArchCHECK
malbec2 Linux (Ubuntu 16.04.1 LTS) / x86_64 
0300
merida2 OS X 10.11.6 El Capitan / x86_64 
0300
Package 1/3HostnameOS / ArchCHECK
BiocParallel 1.13.1
Bioconductor Package Maintainer
Last Commit: 24b53b3
Last Changed Date: 2017-12-30 09:52:56 -0500
malbec2 Linux (Ubuntu 16.04.1 LTS) / x86_64  ERROR 
merida2 OS X 10.11.6 El Capitan / x86_64  ERROR 
Package 2/3HostnameOS / ArchCHECK
GenomicFeatures 1.31.10
Bioconductor Package Maintainer
Last Commit: beb5515
Last Changed Date: 2018-02-08 18:08:18 -0500
malbec2 Linux (Ubuntu 16.04.1 LTS) / x86_64  ERROR 
merida2 OS X 10.11.6 El Capitan / x86_64  ERROR 
Package 3/3HostnameOS / ArchCHECK
HDF5Array 1.7.8
Hervé Pagès
Last Commit: 096a83f
Last Changed Date: 2018-02-14 21:20:34 -0500
malbec2 Linux (Ubuntu 16.04.1 LTS) / x86_64  ERROR 
merida2 OS X 10.11.6 El Capitan / x86_64  ERROR