Name | Last modified | Size | Description | |
---|---|---|---|---|
Parent Directory | - | |||
install-summary.dcf | 26-Jul-2024 03:51 | 271 | ||
buildsrc-summary.dcf | 26-Jul-2024 03:51 | 436 | ||
checksrc-summary.dcf | 26-Jul-2024 03:51 | 439 | ||
buildsrc-out.txt | 26-Jul-2024 03:51 | 873 | ||
install-out.txt | 26-Jul-2024 03:51 | 915 | ||
checksrc-out.txt | 26-Jul-2024 03:51 | 2.8K | ||