Index of /checkResults/3.19/bioc-longtests-LATEST/zellkonverter/raw-results/palomino7
Name
Last modified
Size
Description
Parent Directory
-
checksrc-summary.dcf
14-Jul-2024 12:55
477
checksrc-out.txt
14-Jul-2024 12:55
4.0K