Index of /checkResults/3.19/bioc-longtests-LATEST/zellkonverter/raw-results/palomino3
Name
Last modified
Size
Description
Parent Directory
-
checksrc-summary.dcf
23-Jun-2024 12:55
478
checksrc-out.txt
23-Jun-2024 12:55
4.0K