Index of /checkResults/3.19/bioc-longtests-LATEST/zellkonverter/raw-results/nebbiolo1
Name
Last modified
Size
Description
Parent Directory
-
checksrc-summary.dcf
14-Jul-2024 12:55
447
checksrc-out.txt
14-Jul-2024 12:55
3.4K
buildsrc-summary.dcf
19-Nov-2023 11:30
467
buildsrc-out.txt
19-Nov-2023 11:30
831