Index of /checkResults/3.19/bioc-longtests-LATEST/zellkonverter/raw-results/merida1
Name
Last modified
Size
Description
Parent Directory
-
checksrc-summary.dcf
14-Jul-2024 12:55
458
checksrc-out.txt
14-Jul-2024 12:55
3.3K