Index of /checkResults/3.19/bioc-longtests-LATEST/biodbHmdb/raw-results/nebbiolo1
Name
Last modified
Size
Description
Parent Directory
-
buildsrc-out.txt
19-Nov-2023 11:30
789
buildsrc-summary.dcf
19-Nov-2023 11:30
453
checksrc-out.txt
14-Jul-2024 12:55
4.5K
checksrc-summary.dcf
14-Jul-2024 12:55
440