Index of /checkResults/3.19/bioc-longtests-LATEST/biodbHmdb/raw-results/lconway
Name
Last modified
Size
Description
Parent Directory
-
checksrc-out.txt
09-Jun-2024 12:55
3.3K
checksrc-summary.dcf
09-Jun-2024 12:55
451