Index of /checkResults/3.19/bioc-longtests-LATEST/biodbHmdb/raw-results
Name
Last modified
Size
Description
Parent Directory
-
lconway/
09-Jun-2024 12:55
-
palomino3/
23-Jun-2024 12:55
-
info.dcf
14-Jul-2024 12:55
278
nebbiolo1/
14-Jul-2024 12:55
-
palomino7/
14-Jul-2024 12:55
-
merida1/
14-Jul-2024 12:55
-