Name | Last modified | Size | Description | |
---|---|---|---|---|
Parent Directory | - | |||
buildbin-out.txt | 10-Jul-2024 06:41 | 1.1K | ||
buildbin-summary.dcf | 10-Jul-2024 06:41 | 509 | ||
buildsrc-out.txt | 10-Jul-2024 06:41 | 871 | ||
buildsrc-summary.dcf | 10-Jul-2024 06:41 | 449 | ||
checksrc-out.txt | 10-Jul-2024 06:41 | 3.7K | ||
checksrc-summary.dcf | 10-Jul-2024 06:41 | 443 | ||
install-out.txt | 10-Jul-2024 06:41 | 959 | ||
install-summary.dcf | 10-Jul-2024 06:41 | 266 | ||