Name | Last modified | Size | Description | |
---|---|---|---|---|
Parent Directory | - | |||
checksrc-out.txt | 29-Jun-2024 06:42 | 11K | ||
buildbin-out.txt | 29-Jun-2024 06:42 | 1.1K | ||
install-out.txt | 29-Jun-2024 06:42 | 965 | ||
buildsrc-out.txt | 29-Jun-2024 06:42 | 889 | ||
buildbin-summary.dcf | 29-Jun-2024 06:42 | 503 | ||
buildsrc-summary.dcf | 29-Jun-2024 06:42 | 445 | ||
checksrc-summary.dcf | 29-Jun-2024 06:42 | 439 | ||
install-summary.dcf | 29-Jun-2024 06:42 | 264 | ||