Name | Last modified | Size | Description | |
---|---|---|---|---|
Parent Directory | - | |||
buildbin-out.txt | 27-Jul-2024 06:41 | 1.2K | ||
buildbin-summary.dcf | 27-Jul-2024 06:41 | 548 | ||
buildsrc-out.txt | 27-Jul-2024 06:41 | 828 | ||
buildsrc-summary.dcf | 27-Jul-2024 06:41 | 437 | ||
checksrc-out.txt | 27-Jul-2024 06:41 | 6.9K | ||
checksrc-summary.dcf | 27-Jul-2024 06:41 | 462 | ||
install-out.txt | 27-Jul-2024 06:41 | 1.0K | ||
install-summary.dcf | 27-Jul-2024 06:41 | 275 | ||