Index of /checkResults/3.19/bioc-LATEST/rDGIdb/raw-results/palomino7
Name
Last modified
Size
Description
Parent Directory
-
buildsrc-out.txt
27-Jul-2024 06:39
1.1K
buildsrc-summary.dcf
27-Jul-2024 06:39
365
install-out.txt
27-Jul-2024 06:39
959
install-summary.dcf
27-Jul-2024 06:39
266