Name | Last modified | Size | Description | |
---|---|---|---|---|
Parent Directory | - | |||
buildbin-out.txt | 23-May-2024 00:36 | 1.1K | ||
buildbin-summary.dcf | 23-May-2024 00:36 | 506 | ||
buildsrc-out.txt | 29-Jun-2024 06:42 | 1.1K | ||
buildsrc-summary.dcf | 29-Jun-2024 06:42 | 365 | ||
checksrc-out.txt | 23-May-2024 00:36 | 3.3K | ||
checksrc-summary.dcf | 23-May-2024 00:36 | 442 | ||
install-out.txt | 29-Jun-2024 06:42 | 959 | ||
install-summary.dcf | 29-Jun-2024 06:42 | 266 | ||