Name | Last modified | Size | Description | |
---|---|---|---|---|
Parent Directory | - | |||
buildsrc-out.txt | 27-Jul-2024 06:38 | 1.0K | ||
buildsrc-summary.dcf | 27-Jul-2024 06:38 | 331 | ||
checksrc-out.txt | 28-May-2024 00:35 | 3.3K | ||
checksrc-summary.dcf | 28-May-2024 00:35 | 410 | ||
install-out.txt | 27-Jul-2024 06:38 | 949 | ||
install-summary.dcf | 27-Jul-2024 06:38 | 256 | ||