Name | Last modified | Size | Description | |
---|---|---|---|---|
Parent Directory | - | |||
buildbin-out.txt | 28-May-2024 00:36 | 1.1K | ||
buildbin-summary.dcf | 28-May-2024 00:36 | 523 | ||
buildsrc-out.txt | 12-Jun-2024 03:42 | 1.0K | ||
buildsrc-summary.dcf | 12-Jun-2024 03:42 | 341 | ||
checksrc-out.txt | 28-May-2024 00:36 | 3.4K | ||
checksrc-summary.dcf | 28-May-2024 00:36 | 439 | ||
install-out.txt | 12-Jun-2024 03:42 | 1.0K | ||
install-summary.dcf | 12-Jun-2024 03:42 | 267 | ||