Index of /checkResults/3.19/bioc-LATEST/rDGIdb/raw-results/kjohnson1
Name
Last modified
Size
Description
Parent Directory
-
buildsrc-out.txt
27-Jul-2024 06:42
1.1K
buildsrc-summary.dcf
27-Jul-2024 06:42
341
install-out.txt
27-Jul-2024 06:42
1.0K
install-summary.dcf
27-Jul-2024 06:42
266