Index of /checkResults/3.19/bioc-LATEST/peakPantheR/raw-results/kjohnson3
Name
Last modified
Size
Description
Parent Directory
-
buildsrc-out.txt
12-Jun-2024 03:44
2.0K
buildsrc-summary.dcf
12-Jun-2024 03:44
351
install-out.txt
12-Jun-2024 03:44
1.0K
install-summary.dcf
12-Jun-2024 03:44
277