Name | Last modified | Size | Description | |
---|---|---|---|---|
Parent Directory | - | |||
install-summary.dcf | 10-May-2024 00:41 | 275 | ||
install-out.txt | 10-May-2024 00:41 | 1.0K | ||
checksrc-summary.dcf | 10-May-2024 00:41 | 461 | ||
checksrc-out.txt | 10-May-2024 00:41 | 7.8K | ||
buildsrc-summary.dcf | 10-May-2024 00:41 | 436 | ||
buildsrc-out.txt | 10-May-2024 00:41 | 828 | ||