Back to Multiple platform build/check report for BioC 3.19:   simplified   long

This page was generated on 2024-03-29 11:34:38 -0400 (Fri, 29 Mar 2024).

More about kunpeng2


Hostname: kunpeng2
OS: Linux (openEuler 22.03 LTS-SP1)
Arch: aarch64
Platform: aarch64-linux-gnu
R version: R Under development (unstable) (2024-03-19 r86153) -- "Unsuffered Consequences"
R environment variables: Renviron.bioc

C compiler

R variable (VAR)Value ('R CMD config <VAR>' output)
CCgcc
CFLAGS-g -O2 -Wall
CPICFLAGS-fPIC
Please refer to 'R CMD config -h' for the meaning of these variables

Compiler version ('gcc --version' output):

gcc (GCC) 10.3.1
Copyright (C) 2020 Free Software Foundation, Inc.
This is free software; see the source for copying conditions.  There is NO
warranty; not even for MERCHANTABILITY or FITNESS FOR A PARTICULAR PURPOSE.


C++ compiler

R variable (VAR)Value ('R CMD config <VAR>' output)
CXXg++ -std=gnu++17
CXXFLAGS-g -O2 -Wall
CXXPICFLAGS-fPIC
Please refer to 'R CMD config -h' for the meaning of these variables

Compiler version ('g++ -std=gnu++17 --version' output):

g++ (GCC) 10.3.1
Copyright (C) 2020 Free Software Foundation, Inc.
This is free software; see the source for copying conditions.  There is NO
warranty; not even for MERCHANTABILITY or FITNESS FOR A PARTICULAR PURPOSE.


C++11 compiler

R variable (VAR)Value ('R CMD config <VAR>' output)
CXX11g++
CXX11FLAGS-g -O2 -Wall
CXX11PICFLAGS-fPIC
CXX11STD-std=gnu++11
Please refer to 'R CMD config -h' for the meaning of these variables

Compiler version ('g++ --version' output):

g++ (GCC) 10.3.1
Copyright (C) 2020 Free Software Foundation, Inc.
This is free software; see the source for copying conditions.  There is NO
warranty; not even for MERCHANTABILITY or FITNESS FOR A PARTICULAR PURPOSE.


C++14 compiler

R variable (VAR)Value ('R CMD config <VAR>' output)
CXX14g++
CXX14FLAGS-g -O2 -Wall
CXX14PICFLAGS-fPIC
CXX14STD-std=gnu++14
Please refer to 'R CMD config -h' for the meaning of these variables

Compiler version ('g++ --version' output):

g++ (GCC) 10.3.1
Copyright (C) 2020 Free Software Foundation, Inc.
This is free software; see the source for copying conditions.  There is NO
warranty; not even for MERCHANTABILITY or FITNESS FOR A PARTICULAR PURPOSE.


C++17 compiler

R variable (VAR)Value ('R CMD config <VAR>' output)
CXX17g++
CXX17FLAGS-g -O2 -Wall
CXX17PICFLAGS-fPIC
CXX17STD-std=gnu++17
Please refer to 'R CMD config -h' for the meaning of these variables

Compiler version ('g++ --version' output):

g++ (GCC) 10.3.1
Copyright (C) 2020 Free Software Foundation, Inc.
This is free software; see the source for copying conditions.  There is NO
warranty; not even for MERCHANTABILITY or FITNESS FOR A PARTICULAR PURPOSE.


Java

java version ('java --version' output):

openjdk 17.0.7 2023-04-18
OpenJDK Runtime Environment 21.9 (build 17.0.7+7)
OpenJDK 64-Bit Server VM 21.9 (build 17.0.7+7, mixed mode, sharing)

Pandoc

pandoc version ('pandoc --version' output):

pandoc 2.12
Compiled with pandoc-types 1.22, texmath 0.12.1.1, skylighting 0.10.4,
citeproc 0.3.0.8, ipynb 0.1.0.1
User data directory: /home/biocbuild/.local/share/pandoc
Copyright (C) 2006-2021 John MacFarlane. Web:  https://pandoc.org
This is free software; see the source for copying conditions. There is no
warranty, not even for merchantability or fitness for a particular purpose.

More information might be added in the future...