Name | Last modified | Size | Description | |
---|---|---|---|---|
Parent Directory | - | |||
install-summary.dcf | 17-Jul-2024 06:39 | 277 | ||
install-out.txt | 17-Jul-2024 06:39 | 1.0K | ||
checksrc-summary.dcf | 17-Jul-2024 06:39 | 467 | ||
checksrc-out.txt | 17-Jul-2024 06:39 | 3.5K | ||
buildsrc-summary.dcf | 17-Jul-2024 06:39 | 472 | ||
buildsrc-out.txt | 17-Jul-2024 06:39 | 924 | ||
buildbin-summary.dcf | 17-Jul-2024 06:39 | 545 | ||
buildbin-out.txt | 17-Jul-2024 06:39 | 1.1K | ||