Name | Last modified | Size | Description | |
---|---|---|---|---|
Parent Directory | - | |||
install-out.txt | 29-Jun-2024 06:41 | 1.0K | ||
install-summary.dcf | 29-Jun-2024 06:41 | 278 | ||
buildsrc-out.txt | 29-Jun-2024 06:41 | 1.3K | ||
buildsrc-summary.dcf | 29-Jun-2024 06:41 | 473 | ||
checksrc-out.txt | 29-Jun-2024 06:41 | 3.6K | ||
checksrc-summary.dcf | 29-Jun-2024 06:41 | 467 | ||
buildbin-summary.dcf | 29-Jun-2024 06:41 | 545 | ||
buildbin-out.txt | 29-Jun-2024 06:41 | 1.1K | ||