Name | Last modified | Size | Description | |
---|---|---|---|---|
Parent Directory | - | |||
install-summary.dcf | 17-Jul-2024 06:38 | 267 | ||
install-out.txt | 17-Jul-2024 06:38 | 644 | ||
checksrc-summary.dcf | 29-Jun-2024 06:39 | 427 | ||
checksrc-out.txt | 29-Jun-2024 06:39 | 8.9K | ||
buildsrc-summary.dcf | 17-Jul-2024 06:38 | 338 | ||
buildsrc-out.txt | 17-Jul-2024 06:38 | 889 | ||