Name | Last modified | Size | Description | |
---|---|---|---|---|
Parent Directory | - | |||
buildbin-out.txt | 24-Jul-2024 22:04 | 1.1K | ||
buildbin-summary.dcf | 24-Jul-2024 22:04 | 539 | ||
buildsrc-out.txt | 24-Jul-2024 22:04 | 785 | ||
buildsrc-summary.dcf | 24-Jul-2024 22:04 | 467 | ||
checksrc-out.txt | 24-Jul-2024 22:04 | 4.3K | ||
checksrc-summary.dcf | 24-Jul-2024 22:04 | 462 | ||
install-out.txt | 24-Jul-2024 22:04 | 949 | ||
install-summary.dcf | 24-Jul-2024 22:04 | 276 | ||