Name | Last modified | Size | Description | |
---|---|---|---|---|
Parent Directory | - | |||
install-summary.dcf | 12-Jun-2024 03:41 | 277 | ||
install-out.txt | 12-Jun-2024 03:41 | 1.0K | ||
checksrc-summary.dcf | 12-Jun-2024 03:41 | 459 | ||
checksrc-out.txt | 12-Jun-2024 03:41 | 4.5K | ||
buildsrc-summary.dcf | 12-Jun-2024 03:41 | 438 | ||
buildsrc-out.txt | 12-Jun-2024 03:41 | 760 | ||
buildbin-summary.dcf | 12-Jun-2024 03:41 | 553 | ||
buildbin-out.txt | 12-Jun-2024 03:41 | 1.2K | ||