Name | Last modified | Size | Description | |
---|---|---|---|---|
Parent Directory | - | |||
buildbin-out.txt | 27-Jul-2024 06:41 | 1.2K | ||
buildbin-summary.dcf | 27-Jul-2024 06:41 | 551 | ||
checksrc-summary.dcf | 27-Jul-2024 06:41 | 459 | ||
checksrc-out.txt | 27-Jul-2024 06:41 | 4.5K | ||
buildsrc-out.txt | 27-Jul-2024 06:41 | 760 | ||
buildsrc-summary.dcf | 27-Jul-2024 06:41 | 438 | ||
install-summary.dcf | 27-Jul-2024 06:41 | 276 | ||
install-out.txt | 27-Jul-2024 06:41 | 1.0K | ||