Name | Last modified | Size | Description | |
---|---|---|---|---|
Parent Directory | - | |||
buildbin-summary.dcf | 19-Jun-2024 06:59 | 576 | ||
buildbin-out.txt | 19-Jun-2024 06:59 | 7.5K | ||
checksrc-out.txt | 19-Jun-2024 06:59 | 14K | ||
checksrc-summary.dcf | 19-Jun-2024 06:59 | 494 | ||
buildsrc-out.txt | 19-Jun-2024 06:59 | 921 | ||
buildsrc-summary.dcf | 19-Jun-2024 06:59 | 493 | ||
install-summary.dcf | 19-Jun-2024 06:59 | 289 | ||
install-out.txt | 19-Jun-2024 06:59 | 7.3K | ||