Name | Last modified | Size | Description | |
---|---|---|---|---|
Parent Directory | - | |||
checksrc-out.txt | 24-Jul-2024 22:03 | 5.7K | ||
install-out.txt | 24-Jul-2024 22:03 | 951 | ||
buildsrc-out.txt | 24-Jul-2024 22:03 | 856 | ||
buildsrc-summary.dcf | 24-Jul-2024 22:03 | 407 | ||
checksrc-summary.dcf | 24-Jul-2024 22:03 | 400 | ||
install-summary.dcf | 24-Jul-2024 22:03 | 252 | ||