Index of /checkResults/3.19/bioc-LATEST/SARC/raw-results/nebbiolo1

[ICO]NameLast modifiedSizeDescription

[DIR]Parent Directory  -  
[TXT]buildsrc-out.txt18-May-2024 00:36 856  
[   ]buildsrc-summary.dcf18-May-2024 00:36 407  
[TXT]checksrc-out.txt18-May-2024 00:36 5.7K 
[   ]checksrc-summary.dcf18-May-2024 00:36 400  
[TXT]install-out.txt18-May-2024 00:36 951  
[   ]install-summary.dcf18-May-2024 00:36 252