Name | Last modified | Size | Description | |
---|---|---|---|---|
Parent Directory | - | |||
install-summary.dcf | 10-Jul-2024 06:42 | 270 | ||
install-out.txt | 10-Jul-2024 06:42 | 74K | ||
checksrc-summary.dcf | 10-Jul-2024 06:42 | 450 | ||
checksrc-out.txt | 10-Jul-2024 06:42 | 4.8K | ||
buildsrc-summary.dcf | 10-Jul-2024 06:42 | 428 | ||
buildsrc-out.txt | 10-Jul-2024 06:42 | 846 | ||
buildbin-summary.dcf | 10-Jul-2024 06:42 | 529 | ||
buildbin-out.txt | 10-Jul-2024 06:42 | 76K | ||