Name | Last modified | Size | Description | |
---|---|---|---|---|
Parent Directory | - | |||
buildbin-out.txt | 12-Jun-2024 03:42 | 76K | ||
buildbin-summary.dcf | 12-Jun-2024 03:42 | 529 | ||
buildsrc-out.txt | 12-Jun-2024 03:42 | 846 | ||
buildsrc-summary.dcf | 12-Jun-2024 03:42 | 428 | ||
checksrc-out.txt | 12-Jun-2024 03:42 | 4.7K | ||
checksrc-summary.dcf | 12-Jun-2024 03:42 | 450 | ||
install-out.txt | 12-Jun-2024 03:42 | 74K | ||
install-summary.dcf | 12-Jun-2024 03:42 | 270 | ||