Name | Last modified | Size | Description | |
---|---|---|---|---|
Parent Directory | - | |||
install-summary.dcf | 12-Jun-2024 03:44 | 270 | ||
install-out.txt | 12-Jun-2024 03:44 | 112K | ||
buildsrc-out.txt | 12-Jun-2024 03:44 | 846 | ||
buildsrc-summary.dcf | 12-Jun-2024 03:44 | 428 | ||
checksrc-out.txt | 12-Jun-2024 03:44 | 4.7K | ||
checksrc-summary.dcf | 12-Jun-2024 03:44 | 450 | ||
buildbin-summary.dcf | 12-Jun-2024 03:44 | 530 | ||
buildbin-out.txt | 12-Jun-2024 03:44 | 114K | ||