Name | Last modified | Size | Description | |
---|---|---|---|---|
Parent Directory | - | |||
install-summary.dcf | 10-Jul-2024 06:39 | 253 | ||
checksrc-summary.dcf | 10-Jul-2024 06:39 | 402 | ||
buildsrc-summary.dcf | 10-Jul-2024 06:39 | 408 | ||
buildsrc-out.txt | 10-Jul-2024 06:39 | 824 | ||
install-out.txt | 10-Jul-2024 06:39 | 3.2K | ||
checksrc-out.txt | 10-Jul-2024 06:39 | 3.3K | ||