Name | Last modified | Size | Description | |
---|---|---|---|---|
Parent Directory | - | |||
install-summary.dcf | 10-Jul-2024 06:42 | 264 | ||
install-out.txt | 10-Jul-2024 06:42 | 2.7K | ||
checksrc-summary.dcf | 10-Jul-2024 06:42 | 432 | ||
checksrc-out.txt | 10-Jul-2024 06:42 | 3.4K | ||
buildsrc-summary.dcf | 10-Jul-2024 06:42 | 419 | ||
buildsrc-out.txt | 10-Jul-2024 06:42 | 834 | ||
buildbin-summary.dcf | 10-Jul-2024 06:42 | 513 | ||
buildbin-out.txt | 10-Jul-2024 06:42 | 4.6K | ||