Index of /checkResults/3.19/bioc-LATEST/Rbec/raw-results/kunpeng2
Name
Last modified
Size
Description
Parent Directory
-
install-summary.dcf
10-May-2024 00:41
267
buildsrc-summary.dcf
10-May-2024 00:41
338
install-out.txt
10-May-2024 00:41
2.4K
buildsrc-out.txt
10-May-2024 00:41
2.6K