Index of /checkResults/3.19/bioc-LATEST/Rbec/raw-results/kjohnson3
Name
Last modified
Size
Description
Parent Directory
-
buildsrc-out.txt
12-Jun-2024 03:44
8.0K
buildsrc-summary.dcf
12-Jun-2024 03:44
337
install-out.txt
12-Jun-2024 03:44
7.8K
install-summary.dcf
12-Jun-2024 03:44
266