Index of /checkResults/3.19/bioc-LATEST/Rbec/raw-results/kjohnson1
Name
Last modified
Size
Description
Parent Directory
-
buildsrc-out.txt
10-Jul-2024 06:43
8.0K
buildsrc-summary.dcf
10-Jul-2024 06:43
337
install-out.txt
10-Jul-2024 06:43
7.8K
install-summary.dcf
10-Jul-2024 06:43
266