Name | Last modified | Size | Description | |
---|---|---|---|---|
Parent Directory | - | |||
buildbin-summary.dcf | 10-Jul-2024 06:43 | 524 | ||
buildbin-out.txt | 10-Jul-2024 06:43 | 1.4K | ||
checksrc-out.txt | 10-Jul-2024 06:43 | 3.8K | ||
checksrc-summary.dcf | 10-Jul-2024 06:43 | 440 | ||
buildsrc-summary.dcf | 10-Jul-2024 06:43 | 424 | ||
buildsrc-out.txt | 10-Jul-2024 06:43 | 875 | ||
install-summary.dcf | 10-Jul-2024 06:43 | 267 | ||
install-out.txt | 10-Jul-2024 06:43 | 1.2K | ||