Name | Last modified | Size | Description | |
---|---|---|---|---|
Parent Directory | - | |||
buildbin-summary.dcf | 10-Jul-2024 06:40 | 522 | ||
buildbin-out.txt | 10-Jul-2024 06:40 | 2.3K | ||
checksrc-summary.dcf | 10-Jul-2024 06:40 | 451 | ||
checksrc-out.txt | 10-Jul-2024 06:40 | 5.8K | ||
buildsrc-summary.dcf | 10-Jul-2024 06:40 | 457 | ||
buildsrc-out.txt | 10-Jul-2024 06:40 | 876 | ||
install-out.txt | 10-Jul-2024 06:40 | 2.2K | ||
install-summary.dcf | 10-Jul-2024 06:40 | 270 | ||