Name | Last modified | Size | Description | |
---|---|---|---|---|
Parent Directory | - | |||
buildbin-out.txt | 10-Jul-2024 06:42 | 6.2K | ||
checksrc-out.txt | 10-Jul-2024 06:42 | 5.4K | ||
install-out.txt | 10-Jul-2024 06:42 | 2.6K | ||
buildsrc-out.txt | 10-Jul-2024 06:42 | 850 | ||
buildbin-summary.dcf | 10-Jul-2024 06:42 | 537 | ||
checksrc-summary.dcf | 10-Jul-2024 06:42 | 449 | ||
buildsrc-summary.dcf | 10-Jul-2024 06:42 | 431 | ||
install-summary.dcf | 10-Jul-2024 06:42 | 272 | ||