Name | Last modified | Size | Description | |
---|---|---|---|---|
Parent Directory | - | |||
install-summary.dcf | 12-Jun-2024 03:42 | 271 | ||
buildsrc-summary.dcf | 12-Jun-2024 03:42 | 346 | ||
checksrc-summary.dcf | 28-May-2024 00:36 | 448 | ||
buildbin-summary.dcf | 28-May-2024 00:36 | 536 | ||
buildsrc-out.txt | 12-Jun-2024 03:42 | 1.6K | ||
install-out.txt | 12-Jun-2024 03:42 | 2.6K | ||
checksrc-out.txt | 28-May-2024 00:36 | 5.2K | ||
buildbin-out.txt | 28-May-2024 00:36 | 6.2K | ||