Index of /checkResults/3.19/bioc-LATEST/OUTRIDER/raw-results/kjohnson3
Name
Last modified
Size
Description
Parent Directory
-
install-summary.dcf
12-Jun-2024 03:44
271
install-out.txt
12-Jun-2024 03:44
2.6K
buildsrc-summary.dcf
12-Jun-2024 03:44
346
buildsrc-out.txt
12-Jun-2024 03:44
1.5K