Name | Last modified | Size | Description | |
---|---|---|---|---|
Parent Directory | - | |||
buildbin-out.txt | 27-Jul-2024 06:39 | 22K | ||
buildbin-summary.dcf | 27-Jul-2024 06:39 | 546 | ||
buildsrc-out.txt | 27-Jul-2024 06:39 | 1.1K | ||
buildsrc-summary.dcf | 27-Jul-2024 06:39 | 473 | ||
checksrc-out.txt | 27-Jul-2024 06:39 | 13K | ||
checksrc-summary.dcf | 27-Jul-2024 06:39 | 472 | ||
install-out.txt | 27-Jul-2024 06:39 | 21K | ||
install-summary.dcf | 27-Jul-2024 06:39 | 279 | ||