Name | Last modified | Size | Description | |
---|---|---|---|---|
Parent Directory | - | |||
buildsrc-out.txt | 27-Jul-2024 06:38 | 967 | ||
buildsrc-summary.dcf | 27-Jul-2024 06:38 | 432 | ||
checksrc-out.txt | 27-Jul-2024 06:38 | 13K | ||
checksrc-summary.dcf | 27-Jul-2024 06:38 | 439 | ||
install-out.txt | 27-Jul-2024 06:38 | 9.7K | ||
install-summary.dcf | 27-Jul-2024 06:38 | 269 | ||